BEGIN:VCALENDAR
VERSION:2.0
PRODID:-//urwahl3000//gruene-sindelfingen.de//DE
CALSCALE:GREGORIAN
BEGIN:VEVENT
DTSTART:20250208T093000
DTEND:20250208T120000
LOCATION:Sindelfinger Wochenmarkt 
DTSTAMP:20250208T093000
SUMMARY:Infostand – Sindelfingen
URL;VALUE=URI:https://gruene-sindelfingen.de/termin/marktstand-in-sindelfingen/
UID:20250208T093000-20250208T093000-20250208T120000
END:VEVENT
END:VCALENDAR